BEGIN:VCALENDAR
VERSION:2.0
PRODID:-//eventon.com NONSGML v1.0//EN
CALSCALE:GREGORIAN
METHOD:PUBLISH
BEGIN:VEVENT
UID:69e67b964bea3
DTSTAMP:20260420T191638Z
DTSTART:20250620T170000Z
DTEND:20250620T213000Z
LOCATION:
SUMMARY:Fête de la musique - péniche JASI II
DESCRIPTION:Fête de la musique - péniche JASI II\nhttps://www.deulemont.f
 r/events/fete-de-la-musique-peniche-jasi-ii/
URL:https://www.deulemont.fr/events/fete-de-la-musique-peniche-jasi-ii/
END:VEVENT
END:VCALENDAR