BEGIN:VCALENDAR
VERSION:2.0
PRODID:-//eventon.com NONSGML v1.0//EN
CALSCALE:GREGORIAN
METHOD:PUBLISH
BEGIN:VEVENT
UID:69ecd4c416561
DTSTAMP:20260425T145044Z
DTSTART:20241207T150000Z
DTEND:20241207T180000Z
LOCATION:
SUMMARY:DEULEMONIAK by night - complexe sportif
DESCRIPTION:DEULEMONIAK by night - complexe sportif\nhttps://www.deulemont.
 fr/events/deulemoniak-by-night-complexe-sportif/
URL:https://www.deulemont.fr/events/deulemoniak-by-night-complexe-sportif/
END:VEVENT
END:VCALENDAR